BEGIN:VCALENDAR
VERSION:2.0
PRODID:-//Red Cliffs Range - ECPv6.15.20//NONSGML v1.0//EN
CALSCALE:GREGORIAN
METHOD:PUBLISH
X-WR-CALNAME:Red Cliffs Range
X-ORIGINAL-URL:https://redcliffsrange.com
X-WR-CALDESC:Events for Red Cliffs Range
REFRESH-INTERVAL;VALUE=DURATION:PT1H
X-Robots-Tag:noindex
X-PUBLISHED-TTL:PT1H
BEGIN:VTIMEZONE
TZID:America/Denver
BEGIN:DAYLIGHT
TZOFFSETFROM:-0700
TZOFFSETTO:-0600
TZNAME:MDT
DTSTART:20250309T090000
END:DAYLIGHT
BEGIN:STANDARD
TZOFFSETFROM:-0600
TZOFFSETTO:-0700
TZNAME:MST
DTSTART:20251102T080000
END:STANDARD
BEGIN:DAYLIGHT
TZOFFSETFROM:-0700
TZOFFSETTO:-0600
TZNAME:MDT
DTSTART:20260308T090000
END:DAYLIGHT
BEGIN:STANDARD
TZOFFSETFROM:-0600
TZOFFSETTO:-0700
TZNAME:MST
DTSTART:20261101T080000
END:STANDARD
BEGIN:DAYLIGHT
TZOFFSETFROM:-0700
TZOFFSETTO:-0600
TZNAME:MDT
DTSTART:20270314T090000
END:DAYLIGHT
BEGIN:STANDARD
TZOFFSETFROM:-0600
TZOFFSETTO:-0700
TZNAME:MST
DTSTART:20271107T080000
END:STANDARD
END:VTIMEZONE
BEGIN:VEVENT
DTSTART;TZID=America/Denver:20260925T080000
DTEND;TZID=America/Denver:20260925T170000
DTSTAMP:20260423T113146
CREATED:20260204T012301Z
LAST-MODIFIED:20260204T012301Z
UID:10016-1790323200-1790355600@redcliffsrange.com
SUMMARY:Centerfire Benchrest Match - Main Range Closed
DESCRIPTION:Centerfire Benchrest Score Match\nFinal day of State Championship. \n0800 to  1700 . Main range. 200 yd. 2 relays. Total 10 targets. 50 rounds for record plus sighters. $40. Limit 18. \n\n\nNon-record Shooters welcome! 100 yards only. Limit 5. Hunter \, AR-15\, etc. $10 one half day $15 all day.\n\n Lunch provided. Award ceremony follows.\n\nMatch directors Lance Gifford\, Jim Linkenhoker. Must pre-register:  Wayne Christian 435-668-0305.
URL:https://redcliffsrange.com/event/centerfire-benchrest-match-main-range-closed-2/
END:VEVENT
END:VCALENDAR