BEGIN:VCALENDAR
VERSION:2.0
PRODID:-//Red Cliffs Range - ECPv6.15.20//NONSGML v1.0//EN
CALSCALE:GREGORIAN
METHOD:PUBLISH
X-WR-CALNAME:Red Cliffs Range
X-ORIGINAL-URL:https://redcliffsrange.com
X-WR-CALDESC:Events for Red Cliffs Range
REFRESH-INTERVAL;VALUE=DURATION:PT1H
X-Robots-Tag:noindex
X-PUBLISHED-TTL:PT1H
BEGIN:VTIMEZONE
TZID:America/Denver
BEGIN:DAYLIGHT
TZOFFSETFROM:-0700
TZOFFSETTO:-0600
TZNAME:MDT
DTSTART:20250309T090000
END:DAYLIGHT
BEGIN:STANDARD
TZOFFSETFROM:-0600
TZOFFSETTO:-0700
TZNAME:MST
DTSTART:20251102T080000
END:STANDARD
BEGIN:DAYLIGHT
TZOFFSETFROM:-0700
TZOFFSETTO:-0600
TZNAME:MDT
DTSTART:20260308T090000
END:DAYLIGHT
BEGIN:STANDARD
TZOFFSETFROM:-0600
TZOFFSETTO:-0700
TZNAME:MST
DTSTART:20261101T080000
END:STANDARD
BEGIN:DAYLIGHT
TZOFFSETFROM:-0700
TZOFFSETTO:-0600
TZNAME:MDT
DTSTART:20270314T090000
END:DAYLIGHT
BEGIN:STANDARD
TZOFFSETFROM:-0600
TZOFFSETTO:-0700
TZNAME:MST
DTSTART:20271107T080000
END:STANDARD
END:VTIMEZONE
BEGIN:VEVENT
DTSTART;TZID=America/Denver:20261205T090000
DTEND;TZID=America/Denver:20261205T170000
DTSTAMP:20260423T111455
CREATED:20260204T012523Z
LAST-MODIFIED:20260204T012523Z
UID:10018-1796461200-1796490000@redcliffsrange.com
SUMMARY:Centerfire Benchrest Match - Main Range Closed
DESCRIPTION:Centerfire Benchrest Match\n0900 to 1700. Main Range. Centerfire Score Match. 100 And 200 yd. 100 yd one relay. 200 yd two relays. Total 10 record targets. 5 at 100 and 5 at 200. $40. Limit 18 record shooters. \n\n Non-record shooters welcome! Limit 5. 100 yd only. Hunter\, AR-15\, etc. $10 one half day $15 all day.\n\n Lunch provided. Award ceremony follows.\n\n Match directors Lance Gifford\, Jim Linkenhoker. All must pre-register:   Wayne Christian 435-668-0305.
URL:https://redcliffsrange.com/event/centerfire-benchrest-match-main-range-closed-3/
END:VEVENT
END:VCALENDAR