BEGIN:VCALENDAR
VERSION:2.0
PRODID:-//Red Cliffs Range - ECPv6.15.20//NONSGML v1.0//EN
CALSCALE:GREGORIAN
METHOD:PUBLISH
X-WR-CALNAME:Red Cliffs Range
X-ORIGINAL-URL:https://redcliffsrange.com
X-WR-CALDESC:Events for Red Cliffs Range
REFRESH-INTERVAL;VALUE=DURATION:PT1H
X-Robots-Tag:noindex
X-PUBLISHED-TTL:PT1H
BEGIN:VTIMEZONE
TZID:America/Denver
BEGIN:DAYLIGHT
TZOFFSETFROM:-0700
TZOFFSETTO:-0600
TZNAME:MDT
DTSTART:20240310T090000
END:DAYLIGHT
BEGIN:STANDARD
TZOFFSETFROM:-0600
TZOFFSETTO:-0700
TZNAME:MST
DTSTART:20241103T080000
END:STANDARD
BEGIN:DAYLIGHT
TZOFFSETFROM:-0700
TZOFFSETTO:-0600
TZNAME:MDT
DTSTART:20250309T090000
END:DAYLIGHT
BEGIN:STANDARD
TZOFFSETFROM:-0600
TZOFFSETTO:-0700
TZNAME:MST
DTSTART:20251102T080000
END:STANDARD
BEGIN:DAYLIGHT
TZOFFSETFROM:-0700
TZOFFSETTO:-0600
TZNAME:MDT
DTSTART:20260308T090000
END:DAYLIGHT
BEGIN:STANDARD
TZOFFSETFROM:-0600
TZOFFSETTO:-0700
TZNAME:MST
DTSTART:20261101T080000
END:STANDARD
END:VTIMEZONE
BEGIN:VEVENT
DTSTART;TZID=America/Denver:20250712T100000
DTEND;TZID=America/Denver:20250712T140000
DTSTAMP:20260420T044858
CREATED:20250626T172523Z
LAST-MODIFIED:20250626T172523Z
UID:6810-1752314400-1752328800@redcliffsrange.com
SUMMARY:Multi-State Concealed Carry Class - $60
DESCRIPTION:Multi-State Concealed Carry Class – $60 \nInstructor Jill Hamblin \n\nLearn basic gun safety\nUse of force laws\nWhere you’re allowed to carry your firearm\nProper holster selection\nDifferent ways to conceal carry\nAges 18 yrs old and up\nFingerprints and photos are included\n\nYou must sign up in advance on Jill’s website \nFor more information please call or email Jill.\n(435) 668-2387\njilltactical@gmail.com
URL:https://redcliffsrange.com/event/multi-state-concealed-carry-class-60-5/
ATTACH;FMTTYPE=image/webp:https://redcliffsrange.com/wp-content/uploads/CCW.webp
END:VEVENT
END:VCALENDAR